BEGIN:VCALENDAR
VERSION:2.0
PRODID:-//stdunstansbethesda.org//NONSGML kigkonsult.se iCalcreator 2.30.10
 //
CALSCALE:GREGORIAN
METHOD:PUBLISH
UID:8a7b9cb3-f090-49e0-ba13-25fb0862aa6f
X-WR-CALDESC:Butterflies\, for nearly everyone\, are an exquisite and unive
 rsal symbol of hope and rebirth. Through imagery and words\, Lynn Teo Sima
 rski will share her quest to transform her yard—from one that is sterile t
 o butterflies and other native life—into a haven. Our widespread adoption 
 of monoculture lawns has left little habitat to support cherished butterfl
 ies and other creatures like bees and birds. Most of our imported “pest-fr
 ee” ornamental plants cannot nourish native pollinators. Lynn’s yard is in
  early metamorphosis\, but nature’s “flowers of the air” have begun breedi
 ng there anew. Her photos are a visual inspiration to “bring butterflies h
 ome” to every yard\, including church yards.\n\nLynn Teo Simarski is a sci
 ence writer and fine-art photographer. She gave a presentation previously 
 at St. Dunstan’s with her husband Guy Guthridge\, about Antarctica. Her ph
 otography website is www.lynnteosimarski.com.
X-WR-RELCALID:59240dbe0a6648c365d780742ca7644f
X-WR-TIMEZONE:America/New_York
BEGIN:VTIMEZONE
TZID:America/New_York
BEGIN:STANDARD
TZNAME:EST
DTSTART:20231105T020000
TZOFFSETFROM:-0400
TZOFFSETTO:-0500
RDATE:20241103T020000
RDATE:20251102T020000
END:STANDARD
BEGIN:DAYLIGHT
TZNAME:EDT
DTSTART:20240310T020000
TZOFFSETFROM:-0500
TZOFFSETTO:-0400
RDATE:20250309T020000
RDATE:20260308T020000
END:DAYLIGHT
END:VTIMEZONE
BEGIN:VEVENT
UID:4b71e67a-f83d-4e55-b067-b7ba22c37ec1
DTSTAMP:20260423T183809Z
DESCRIPTION:Butterflies\, for nearly everyone\, are an exquisite and univer
 sal symbol of hope and rebirth. Through imagery and words\, Lynn Teo Simar
 ski will share her quest to transform her yard—from one that is sterile to
  butterflies and other native life—into a haven. Our widespread adoption o
 f monoculture lawns has left little habitat to support cherished butterfli
 es and other creatures like bees and birds. Most of our imported “pest-fre
 e” ornamental plants cannot nourish native pollinators. Lynn’s yard is in 
 early metamorphosis\, but nature’s “flowers of the air” have begun breedin
 g there anew. Her photos are a visual inspiration to “bring butterflies ho
 me” to every yard\, including church yards.\n\nLynn Teo Simarski is a scie
 nce writer and fine-art photographer. She gave a presentation previously a
 t St. Dunstan’s with her husband Guy Guthridge\, about Antarctica. Her pho
 tography website is www.lynnteosimarski.com.
DTSTART;TZID=America/New_York:20241006T120000
DTEND;TZID=America/New_York:20241006T130000
LOCATION:St Dunstan's Episcopal Church - 5450 Massachusetts Ave\, Bethesda\
 , MD - Entrance on Fort Sumner Drive
SUMMARY:Bringing Butterflies Home
END:VEVENT
END:VCALENDAR
