BEGIN:VCALENDAR
VERSION:2.0
PRODID:-//stdunstansbethesda.org//NONSGML kigkonsult.se iCalcreator 2.30.10
 //
CALSCALE:GREGORIAN
METHOD:PUBLISH
UID:99d8263e-92cd-4e81-b685-b1cd967b4df4
X-WR-CALDESC:
X-WR-RELCALID:6eff55d9ccb25966ab871a6ed08201c6
X-WR-TIMEZONE:America/New_York
BEGIN:VTIMEZONE
TZID:America/New_York
BEGIN:STANDARD
TZNAME:EST
DTSTART:20301103T020000
TZOFFSETFROM:-0400
TZOFFSETTO:-0500
RDATE:20311102T020000
RDATE:20321107T020000
END:STANDARD
BEGIN:DAYLIGHT
TZNAME:EDT
DTSTART:20310309T020000
TZOFFSETFROM:-0500
TZOFFSETTO:-0400
RDATE:20320314T020000
RDATE:20330313T020000
END:DAYLIGHT
END:VTIMEZONE
BEGIN:VEVENT
UID:9c56bfba-e654-4309-b083-e49dace99e1d
DTSTAMP:20260424T225154Z
DESCRIPTION:
DTSTART;TZID=America/New_York:20311103T110000
DTEND;TZID=America/New_York:20311103T113000
LOCATION:5555 Friendship Boulevard\, Chevy Chase\, MD 20815 US
SUMMARY:Brighton Gardens Service
END:VEVENT
END:VCALENDAR
