BEGIN:VCALENDAR
VERSION:2.0
PRODID:-//stdunstansbethesda.org//NONSGML kigkonsult.se iCalcreator 2.30.10
 //
CALSCALE:GREGORIAN
METHOD:PUBLISH
UID:1042adf2-0bff-45a6-bccf-068a9843834a
X-WR-CALDESC:
X-WR-RELCALID:76d6318e5cf789f1824c627aa658281d
X-WR-TIMEZONE:America/New_York
BEGIN:VTIMEZONE
TZID:America/New_York
BEGIN:STANDARD
TZNAME:EST
DTSTART:20301103T020000
TZOFFSETFROM:-0400
TZOFFSETTO:-0500
RDATE:20311102T020000
RDATE:20321107T020000
END:STANDARD
BEGIN:DAYLIGHT
TZNAME:EDT
DTSTART:20310309T020000
TZOFFSETFROM:-0500
TZOFFSETTO:-0400
RDATE:20320314T020000
END:DAYLIGHT
END:VTIMEZONE
BEGIN:VEVENT
UID:809617b5-339a-4caf-99a0-c176c7984717
DTSTAMP:20260424T192508Z
DESCRIPTION:
DTSTART;TZID=America/New_York:20310902T120000
DTEND;TZID=America/New_York:20310902T123000
LOCATION:Via Zoom or Facebook -  Please check the Newsletter
SUMMARY:Prayers for Peace and Healing
END:VEVENT
END:VCALENDAR
