BEGIN:VCALENDAR
VERSION:2.0
PRODID:-//stdunstansbethesda.org//NONSGML kigkonsult.se iCalcreator 2.30.10
 //
CALSCALE:GREGORIAN
METHOD:PUBLISH
UID:b34c4432-1dcf-468e-9008-493aabfbaa52
X-WR-CALDESC:
X-WR-RELCALID:1e341f94d7856cbc0fdbd845c90f6aef
X-WR-TIMEZONE:America/New_York
BEGIN:VTIMEZONE
TZID:America/New_York
BEGIN:STANDARD
TZNAME:EST
DTSTART:20301103T020000
TZOFFSETFROM:-0400
TZOFFSETTO:-0500
RDATE:20311102T020000
END:STANDARD
BEGIN:DAYLIGHT
TZNAME:EDT
DTSTART:20310309T020000
TZOFFSETFROM:-0500
TZOFFSETTO:-0400
RDATE:20320314T020000
END:DAYLIGHT
END:VTIMEZONE
BEGIN:VEVENT
UID:18550c1b-748a-4a03-815b-d1dd4b255279
DTSTAMP:20260424T092447Z
DESCRIPTION:
DTSTART;TZID=America/New_York:20310313T140000
DTEND;TZID=America/New_York:20310313T150000
LOCATION:Via Zoom - please contact Jackie Jones or look on the Newsletter
SUMMARY:Book Group meeting monthly
END:VEVENT
END:VCALENDAR
