BEGIN:VCALENDAR
VERSION:2.0
PRODID:-//stdunstansbethesda.org//NONSGML kigkonsult.se iCalcreator 2.30.10
 //
CALSCALE:GREGORIAN
METHOD:PUBLISH
UID:6c8f81e0-fddb-4570-9d58-2d5d83048573
X-WR-CALDESC:
X-WR-RELCALID:e2145c629e21c340db50ea8f37e5dd8f
X-WR-TIMEZONE:America/New_York
BEGIN:VTIMEZONE
TZID:America/New_York
BEGIN:STANDARD
TZNAME:EST
DTSTART:20301103T020000
TZOFFSETFROM:-0400
TZOFFSETTO:-0500
RDATE:20311102T020000
END:STANDARD
BEGIN:DAYLIGHT
TZNAME:EDT
DTSTART:20300310T020000
TZOFFSETFROM:-0500
TZOFFSETTO:-0400
RDATE:20310309T020000
RDATE:20320314T020000
END:DAYLIGHT
END:VTIMEZONE
BEGIN:VEVENT
UID:d983941d-1a0b-4954-9e06-cfd6e673fc8f
DTSTAMP:20260424T074052Z
DESCRIPTION:
DTSTART;TZID=America/New_York:20310203T110000
DTEND;TZID=America/New_York:20310203T113000
LOCATION:5555 Friendship Boulevard\, Chevy Chase\, MD 20815 US
SUMMARY:Brighton Gardens Service
END:VEVENT
END:VCALENDAR
