BEGIN:VCALENDAR
VERSION:2.0
PRODID:-//stdunstansbethesda.org//NONSGML kigkonsult.se iCalcreator 2.30.10
 //
CALSCALE:GREGORIAN
METHOD:PUBLISH
UID:110a3744-9bcc-4dd4-9330-f9504cf9b437
X-WR-CALDESC:
X-WR-RELCALID:63984f210596d236b660c8c934d5a4c0
X-WR-TIMEZONE:America/New_York
BEGIN:VTIMEZONE
TZID:America/New_York
BEGIN:STANDARD
TZNAME:EST
DTSTART:20291104T020000
TZOFFSETFROM:-0400
TZOFFSETTO:-0500
RDATE:20301103T020000
RDATE:20311102T020000
END:STANDARD
BEGIN:DAYLIGHT
TZNAME:EDT
DTSTART:20300310T020000
TZOFFSETFROM:-0500
TZOFFSETTO:-0400
RDATE:20310309T020000
RDATE:20320314T020000
END:DAYLIGHT
END:VTIMEZONE
BEGIN:VEVENT
UID:ed4136f0-51c6-40d0-91f2-2907b8c88cb8
DTSTAMP:20260423T224959Z
DESCRIPTION:
DTSTART;TZID=America/New_York:20300917T120000
DTEND;TZID=America/New_York:20300917T123000
LOCATION:Via Zoom or Facebook -  Please check the Newsletter
SUMMARY:Prayers for Peace and Healing
END:VEVENT
END:VCALENDAR
