BEGIN:VCALENDAR
VERSION:2.0
PRODID:-//stdunstansbethesda.org//NONSGML kigkonsult.se iCalcreator 2.30.10
 //
CALSCALE:GREGORIAN
METHOD:PUBLISH
UID:953787d7-764a-4e05-80a0-76d464074442
X-WR-CALDESC:
X-WR-RELCALID:4611b5dfbf64b84c8b9fe8b7cdded151
X-WR-TIMEZONE:America/New_York
BEGIN:VTIMEZONE
TZID:America/New_York
BEGIN:STANDARD
TZNAME:EST
DTSTART:20281105T020000
TZOFFSETFROM:-0400
TZOFFSETTO:-0500
RDATE:20291104T020000
RDATE:20301103T020000
END:STANDARD
BEGIN:DAYLIGHT
TZNAME:EDT
DTSTART:20290311T020000
TZOFFSETFROM:-0500
TZOFFSETTO:-0400
RDATE:20300310T020000
RDATE:20310309T020000
END:DAYLIGHT
END:VTIMEZONE
BEGIN:VEVENT
UID:24775219-3a28-4cbf-9cb8-ee7153066153
DTSTAMP:20260419T124638Z
DESCRIPTION:
DTSTART;TZID=America/New_York:20290911T120000
DTEND;TZID=America/New_York:20290911T123000
LOCATION:Via Zoom or Facebook -  Please check the Newsletter
SUMMARY:Prayers for Peace and Healing
END:VEVENT
END:VCALENDAR
