BEGIN:VCALENDAR
VERSION:2.0
PRODID:-//stdunstansbethesda.org//NONSGML kigkonsult.se iCalcreator 2.30.10
 //
CALSCALE:GREGORIAN
METHOD:PUBLISH
UID:4788a634-7dcb-493c-b960-ef7059d27528
X-WR-CALDESC:
X-WR-RELCALID:1831d7e1c050b562a340262695e4e6de
X-WR-TIMEZONE:America/New_York
BEGIN:VTIMEZONE
TZID:America/New_York
BEGIN:STANDARD
TZNAME:EST
DTSTART:20281105T020000
TZOFFSETFROM:-0400
TZOFFSETTO:-0500
RDATE:20291104T020000
RDATE:20301103T020000
END:STANDARD
BEGIN:DAYLIGHT
TZNAME:EDT
DTSTART:20290311T020000
TZOFFSETFROM:-0500
TZOFFSETTO:-0400
RDATE:20300310T020000
END:DAYLIGHT
END:VTIMEZONE
BEGIN:VEVENT
UID:51022650-3432-41ad-8951-b856bdbd34c7
DTSTAMP:20260419T180636Z
DESCRIPTION:
DTSTART;TZID=America/New_York:20290619T120000
DTEND;TZID=America/New_York:20290619T123000
LOCATION:Via Zoom or Facebook -  Please check the Newsletter
SUMMARY:Prayers for Peace and Healing
END:VEVENT
END:VCALENDAR
