BEGIN:VCALENDAR
VERSION:2.0
PRODID:-//stdunstansbethesda.org//NONSGML kigkonsult.se iCalcreator 2.30.10
 //
CALSCALE:GREGORIAN
METHOD:PUBLISH
UID:79f2b332-3730-4bd4-8d06-97521b2f3ebf
X-WR-CALDESC:
X-WR-RELCALID:9fbcc38d99aaa2d11173a9cd95a68cd5
X-WR-TIMEZONE:America/New_York
BEGIN:VTIMEZONE
TZID:America/New_York
BEGIN:STANDARD
TZNAME:EST
DTSTART:20271107T020000
TZOFFSETFROM:-0400
TZOFFSETTO:-0500
RDATE:20281105T020000
RDATE:20291104T020000
END:STANDARD
BEGIN:DAYLIGHT
TZNAME:EDT
DTSTART:20280312T020000
TZOFFSETFROM:-0500
TZOFFSETTO:-0400
RDATE:20290311T020000
END:DAYLIGHT
END:VTIMEZONE
BEGIN:VEVENT
UID:a04f3c08-b882-4bd5-8111-7500756e7d4b
DTSTAMP:20260420T131600Z
DESCRIPTION:
DTSTART;TZID=America/New_York:20280703T110000
DTEND;TZID=America/New_York:20280703T113000
LOCATION:5555 Friendship Boulevard\, Chevy Chase\, MD 20815 US
SUMMARY:Brighton Gardens Service
END:VEVENT
END:VCALENDAR
