BEGIN:VCALENDAR
VERSION:2.0
PRODID:-//stdunstansbethesda.org//NONSGML kigkonsult.se iCalcreator 2.30.10
 //
CALSCALE:GREGORIAN
METHOD:PUBLISH
UID:56faa3da-7ba9-4a94-a338-f41308d7a4d7
X-WR-CALDESC:
X-WR-RELCALID:ce78a52199cc0b5543a4be6a8692191b
X-WR-TIMEZONE:America/New_York
BEGIN:VTIMEZONE
TZID:America/New_York
BEGIN:STANDARD
TZNAME:EST
DTSTART:20271107T020000
TZOFFSETFROM:-0400
TZOFFSETTO:-0500
RDATE:20281105T020000
END:STANDARD
BEGIN:DAYLIGHT
TZNAME:EDT
DTSTART:20280312T020000
TZOFFSETFROM:-0500
TZOFFSETTO:-0400
RDATE:20290311T020000
END:DAYLIGHT
END:VTIMEZONE
BEGIN:VEVENT
UID:962c2c44-7820-4964-940f-c9f972bf65f1
DTSTAMP:20260420T180945Z
DESCRIPTION:
DTSTART;TZID=America/New_York:20280418T120000
DTEND;TZID=America/New_York:20280418T123000
LOCATION:Via Zoom or Facebook -  Please check the Newsletter
SUMMARY:Prayers for Peace and Healing
END:VEVENT
END:VCALENDAR
