BEGIN:VCALENDAR
VERSION:2.0
PRODID:-//stdunstansbethesda.org//NONSGML kigkonsult.se iCalcreator 2.30.10
 //
CALSCALE:GREGORIAN
METHOD:PUBLISH
UID:90c822c9-d575-4af5-8cfa-a56321b3fa1b
X-WR-CALDESC:
X-WR-RELCALID:c642f2c55cb467d8b5efe273d8c4798a
X-WR-TIMEZONE:America/New_York
BEGIN:VTIMEZONE
TZID:America/New_York
BEGIN:STANDARD
TZNAME:EST
DTSTART:20271107T020000
TZOFFSETFROM:-0400
TZOFFSETTO:-0500
RDATE:20281105T020000
END:STANDARD
BEGIN:DAYLIGHT
TZNAME:EDT
DTSTART:20280312T020000
TZOFFSETFROM:-0500
TZOFFSETTO:-0400
RDATE:20290311T020000
END:DAYLIGHT
END:VTIMEZONE
BEGIN:VEVENT
UID:d6575b35-e803-4fba-bf4f-c0640a186db0
DTSTAMP:20260420T181059Z
DESCRIPTION:
DTSTART;TZID=America/New_York:20280403T110000
DTEND;TZID=America/New_York:20280403T113000
LOCATION:5555 Friendship Boulevard\, Chevy Chase\, MD 20815 US
SUMMARY:Brighton Gardens Service
END:VEVENT
END:VCALENDAR
