BEGIN:VCALENDAR
VERSION:2.0
PRODID:-//stdunstansbethesda.org//NONSGML kigkonsult.se iCalcreator 2.30.10
 //
CALSCALE:GREGORIAN
METHOD:PUBLISH
UID:bfae8269-99b0-4799-bb86-98d82b71e350
X-WR-CALDESC:
X-WR-RELCALID:2913797e095dc281507add8efa8f9e15
X-WR-TIMEZONE:America/New_York
BEGIN:VTIMEZONE
TZID:America/New_York
BEGIN:STANDARD
TZNAME:EST
DTSTART:20271107T020000
TZOFFSETFROM:-0400
TZOFFSETTO:-0500
RDATE:20281105T020000
END:STANDARD
BEGIN:DAYLIGHT
TZNAME:EDT
DTSTART:20270314T020000
TZOFFSETFROM:-0500
TZOFFSETTO:-0400
RDATE:20280312T020000
RDATE:20290311T020000
END:DAYLIGHT
END:VTIMEZONE
BEGIN:VEVENT
UID:a422197a-b4f0-4a32-a8f0-5526bd2c2c18
DTSTAMP:20260420T213419Z
DESCRIPTION:
DTSTART;TZID=America/New_York:20280208T120000
DTEND;TZID=America/New_York:20280208T123000
LOCATION:Via Zoom or Facebook -  Please check the Newsletter
SUMMARY:Prayers for Peace and Healing
END:VEVENT
END:VCALENDAR
