BEGIN:VCALENDAR
VERSION:2.0
PRODID:-//stdunstansbethesda.org//NONSGML kigkonsult.se iCalcreator 2.30.10
 //
CALSCALE:GREGORIAN
METHOD:PUBLISH
UID:40517943-3c43-49fe-a085-db80b81bdb59
X-WR-CALDESC:
X-WR-RELCALID:c4b7bc8ccfa3c4c72055e537d7580c2d
X-WR-TIMEZONE:America/New_York
BEGIN:VTIMEZONE
TZID:America/New_York
BEGIN:STANDARD
TZNAME:EST
DTSTART:20271107T020000
TZOFFSETFROM:-0400
TZOFFSETTO:-0500
RDATE:20281105T020000
END:STANDARD
BEGIN:DAYLIGHT
TZNAME:EDT
DTSTART:20270314T020000
TZOFFSETFROM:-0500
TZOFFSETTO:-0400
RDATE:20280312T020000
RDATE:20290311T020000
END:DAYLIGHT
END:VTIMEZONE
BEGIN:VEVENT
UID:8d117432-0f77-415c-9f28-f394a1647379
DTSTAMP:20260420T232347Z
DESCRIPTION:
DTSTART;TZID=America/New_York:20280113T140000
DTEND;TZID=America/New_York:20280113T150000
LOCATION:Via Zoom - please contact Jackie Jones or look on the Newsletter
SUMMARY:Book Group meeting monthly
END:VEVENT
END:VCALENDAR
