BEGIN:VCALENDAR
VERSION:2.0
PRODID:-//stdunstansbethesda.org//NONSGML kigkonsult.se iCalcreator 2.30.10
 //
CALSCALE:GREGORIAN
METHOD:PUBLISH
UID:1f599d2a-a35b-4e85-8f32-b2819ee8b974
X-WR-CALDESC:
X-WR-RELCALID:780df24fee01feeb4c53c5939160cbc8
X-WR-TIMEZONE:America/New_York
BEGIN:VTIMEZONE
TZID:America/New_York
BEGIN:STANDARD
TZNAME:EST
DTSTART:20251102T020000
TZOFFSETFROM:-0400
TZOFFSETTO:-0500
RDATE:20261101T020000
RDATE:20271107T020000
END:STANDARD
BEGIN:DAYLIGHT
TZNAME:EDT
DTSTART:20260308T020000
TZOFFSETFROM:-0500
TZOFFSETTO:-0400
RDATE:20270314T020000
END:DAYLIGHT
END:VTIMEZONE
BEGIN:VEVENT
UID:12a982e1-3581-4b27-8ad6-ceef58869521
DTSTAMP:20260420T021822Z
DESCRIPTION:
DTSTART;TZID=America/New_York:20260910T140000
DTEND;TZID=America/New_York:20260910T150000
LOCATION:Via Zoom - please contact Jackie Jones or look on the Newsletter
SUMMARY:Book Group meeting monthly
END:VEVENT
END:VCALENDAR
