BEGIN:VCALENDAR
VERSION:2.0
PRODID:-//stdunstansbethesda.org//NONSGML kigkonsult.se iCalcreator 2.30.10
 //
CALSCALE:GREGORIAN
METHOD:PUBLISH
UID:652cd771-fd0d-4bdc-bcae-1e1c152480b6
X-WR-CALDESC:
X-WR-RELCALID:0d9233f405d44205351d3890b411c28a
X-WR-TIMEZONE:America/New_York
BEGIN:VTIMEZONE
TZID:America/New_York
BEGIN:STANDARD
TZNAME:EST
DTSTART:20251102T020000
TZOFFSETFROM:-0400
TZOFFSETTO:-0500
RDATE:20261101T020000
RDATE:20271107T020000
END:STANDARD
BEGIN:DAYLIGHT
TZNAME:EDT
DTSTART:20260308T020000
TZOFFSETFROM:-0500
TZOFFSETTO:-0400
RDATE:20270314T020000
END:DAYLIGHT
END:VTIMEZONE
BEGIN:VEVENT
UID:95fa06be-ea4b-41ce-a134-1c90c47bc5bf
DTSTAMP:20260420T021559Z
DESCRIPTION:
DTSTART;TZID=America/New_York:20260907T110000
DTEND;TZID=America/New_York:20260907T113000
LOCATION:5555 Friendship Boulevard\, Chevy Chase\, MD 20815 US
SUMMARY:Brighton Gardens Service
END:VEVENT
END:VCALENDAR
