BEGIN:VCALENDAR
VERSION:2.0
PRODID:-//stdunstansbethesda.org//NONSGML kigkonsult.se iCalcreator 2.30.10
 //
CALSCALE:GREGORIAN
METHOD:PUBLISH
UID:bfa2987d-3c80-4fac-bb7e-4a64bb0bf458
X-WR-CALDESC:No preparation or previous Bible Study experience is necessary
 \; we all learn from each other.\n\nCome and see!
X-WR-RELCALID:ff055a154e3d4fccd470bc491448e3df
X-WR-TIMEZONE:America/New_York
BEGIN:VTIMEZONE
TZID:America/New_York
BEGIN:STANDARD
TZNAME:EST
DTSTART:20251102T020000
TZOFFSETFROM:-0400
TZOFFSETTO:-0500
RDATE:20261101T020000
END:STANDARD
BEGIN:DAYLIGHT
TZNAME:EDT
DTSTART:20250309T020000
TZOFFSETFROM:-0500
TZOFFSETTO:-0400
RDATE:20260308T020000
RDATE:20270314T020000
END:DAYLIGHT
END:VTIMEZONE
BEGIN:VEVENT
UID:d89ae233-bc66-48c8-83e2-e7d5784ee798
DTSTAMP:20260421T101946Z
DESCRIPTION:No preparation or previous Bible Study experience is necessary\
 ; we all learn from each other.\n\nCome and see!
DTSTART;TZID=America/New_York:20260218T103000
DTEND;TZID=America/New_York:20260218T114500
LOCATION:On Zoom
SUMMARY:Bible Study (Zoom)
END:VEVENT
END:VCALENDAR
