BEGIN:VCALENDAR
VERSION:2.0
PRODID:-//stdunstansbethesda.org//NONSGML kigkonsult.se iCalcreator 2.30.10
 //
CALSCALE:GREGORIAN
METHOD:PUBLISH
UID:bd25cb68-48ca-44d0-abb3-5f9bd5697a39
X-WR-CALDESC:
X-WR-RELCALID:ba149522cb6348428528991c9f9e1777
X-WR-TIMEZONE:America/New_York
BEGIN:VTIMEZONE
TZID:America/New_York
BEGIN:STANDARD
TZNAME:EST
DTSTART:20251102T020000
TZOFFSETFROM:-0400
TZOFFSETTO:-0500
RDATE:20261101T020000
END:STANDARD
BEGIN:DAYLIGHT
TZNAME:EDT
DTSTART:20250309T020000
TZOFFSETFROM:-0500
TZOFFSETTO:-0400
RDATE:20260308T020000
RDATE:20270314T020000
END:DAYLIGHT
END:VTIMEZONE
BEGIN:VEVENT
UID:05e2aad4-7dab-4a95-b689-a5d6cf680bb3
DTSTAMP:20260421T153418Z
DESCRIPTION:
DTSTART;TZID=America/New_York:20251113T140000
DTEND;TZID=America/New_York:20251113T150000
LOCATION:Via Zoom - please contact Jackie Jones or look on the Newsletter
SUMMARY:Book Group meeting monthly
END:VEVENT
END:VCALENDAR
