BEGIN:VCALENDAR
VERSION:2.0
PRODID:-//stdunstansbethesda.org//NONSGML kigkonsult.se iCalcreator 2.30.10
 //
CALSCALE:GREGORIAN
METHOD:PUBLISH
UID:f4ec80a5-9a7a-45c6-9e14-c855b526e799
X-WR-CALDESC:
X-WR-RELCALID:7d8fb01bd58bee51c63cfe47d15a0823
X-WR-TIMEZONE:America/New_York
BEGIN:VTIMEZONE
TZID:America/New_York
BEGIN:STANDARD
TZNAME:EST
DTSTART:20241103T020000
TZOFFSETFROM:-0400
TZOFFSETTO:-0500
RDATE:20251102T020000
RDATE:20261101T020000
END:STANDARD
BEGIN:DAYLIGHT
TZNAME:EDT
DTSTART:20250309T020000
TZOFFSETFROM:-0500
TZOFFSETTO:-0400
RDATE:20260308T020000
END:DAYLIGHT
END:VTIMEZONE
BEGIN:VEVENT
UID:067b4e28-ece5-41fa-a541-460e9ef7e698
DTSTAMP:20260421T232729Z
DESCRIPTION:
DTSTART;TZID=America/New_York:20250612T140000
DTEND;TZID=America/New_York:20250612T150000
LOCATION:Via Zoom - please contact Jackie Jones or look on the Newsletter
SUMMARY:Book Group meeting monthly
END:VEVENT
END:VCALENDAR
