BEGIN:VCALENDAR
VERSION:2.0
PRODID:-//stdunstansbethesda.org//NONSGML kigkonsult.se iCalcreator 2.30.10
 //
CALSCALE:GREGORIAN
METHOD:PUBLISH
UID:c2b3a71d-e405-407a-9602-4455554a250e
X-WR-CALDESC:November Book Discussion:\n\nMy Name is Lucy Barton by Elizabe
 th Strout\nOn Zoom\n\n﻿All are welcome\, whether you've read the book or n
 ot. Invite a friend!
X-WR-RELCALID:2e5b9a67d01138f20a747cae31c6ec13
X-WR-TIMEZONE:America/New_York
BEGIN:VTIMEZONE
TZID:America/New_York
BEGIN:STANDARD
TZNAME:EST
DTSTART:20241103T020000
TZOFFSETFROM:-0400
TZOFFSETTO:-0500
RDATE:20251102T020000
END:STANDARD
BEGIN:DAYLIGHT
TZNAME:EDT
DTSTART:20240310T020000
TZOFFSETFROM:-0500
TZOFFSETTO:-0400
RDATE:20250309T020000
RDATE:20260308T020000
END:DAYLIGHT
END:VTIMEZONE
BEGIN:VEVENT
UID:bbafd64c-6e3b-491c-893a-661c378a4dd3
DTSTAMP:20260422T120233Z
DESCRIPTION:November Book Discussion:\n\nMy Name is Lucy Barton by Elizabet
 h Strout\nOn Zoom\n\n﻿All are welcome\, whether you've read the book or no
 t. Invite a friend!
DTSTART;TZID=America/New_York:20241114T140000
DTEND;TZID=America/New_York:20241114T150000
LOCATION:Via Zoom - please contact Jackie Jones or look on the Newsletter
SUMMARY:Book Group meeting monthly
END:VEVENT
END:VCALENDAR
