BEGIN:VCALENDAR
VERSION:2.0
PRODID:-//stdunstansbethesda.org//NONSGML kigkonsult.se iCalcreator 2.30.10
 //
CALSCALE:GREGORIAN
METHOD:PUBLISH
UID:4fcf4b0d-4833-4bd6-960f-cc33a81f994a
X-WR-CALDESC:September Book Discussion:\n\nThe Color of Water\,\nby James M
 cBride\n\n﻿All are welcome\, whether you've read the book or not.\nInvite 
 a friend!
X-WR-RELCALID:033343861c4d2171218c55e416939501
X-WR-TIMEZONE:America/New_York
BEGIN:VTIMEZONE
TZID:America/New_York
BEGIN:STANDARD
TZNAME:EST
DTSTART:20231105T020000
TZOFFSETFROM:-0400
TZOFFSETTO:-0500
RDATE:20241103T020000
RDATE:20251102T020000
END:STANDARD
BEGIN:DAYLIGHT
TZNAME:EDT
DTSTART:20240310T020000
TZOFFSETFROM:-0500
TZOFFSETTO:-0400
RDATE:20250309T020000
RDATE:20260308T020000
END:DAYLIGHT
END:VTIMEZONE
BEGIN:VEVENT
UID:4f7da180-afae-4882-b664-573df20f785f
DTSTAMP:20260422T152933Z
DESCRIPTION:September Book Discussion:\n\nThe Color of Water\,\nby James Mc
 Bride\n\n﻿All are welcome\, whether you've read the book or not.\nInvite a
  friend!
DTSTART;TZID=America/New_York:20240912T140000
DTEND;TZID=America/New_York:20240912T150000
LOCATION:On Zoom
SUMMARY:Book Group - This month
END:VEVENT
END:VCALENDAR
