BEGIN:VCALENDAR
VERSION:2.0
PRODID:-//stdunstansbethesda.org//NONSGML kigkonsult.se iCalcreator 2.30.10
 //
CALSCALE:GREGORIAN
METHOD:PUBLISH
UID:ffacf1ba-3910-4b5b-81c3-6430a2f2cee3
X-WR-CALDESC:
X-WR-RELCALID:11a4edc056146bb1fa66bfd277953517
X-WR-TIMEZONE:America/New_York
BEGIN:VTIMEZONE
TZID:America/New_York
BEGIN:STANDARD
TZNAME:EST
DTSTART:20231105T020000
TZOFFSETFROM:-0400
TZOFFSETTO:-0500
RDATE:20241103T020000
RDATE:20251102T020000
END:STANDARD
BEGIN:DAYLIGHT
TZNAME:EDT
DTSTART:20240310T020000
TZOFFSETFROM:-0500
TZOFFSETTO:-0400
RDATE:20250309T020000
END:DAYLIGHT
END:VTIMEZONE
BEGIN:VEVENT
UID:be6a5c8c-8e57-458d-ab04-b00401c3f127
DTSTAMP:20260422T212813Z
DESCRIPTION:
DTSTART;TZID=America/New_York:20240613T140000
DTEND;TZID=America/New_York:20240613T150000
LOCATION:On Zoom
SUMMARY:Monthly Book Group (Zoom)
END:VEVENT
END:VCALENDAR
