BEGIN:VCALENDAR
VERSION:2.0
PRODID:-//stdunstansbethesda.org//NONSGML kigkonsult.se iCalcreator 2.30.10
 //
CALSCALE:GREGORIAN
METHOD:PUBLISH
UID:488ada25-b8ee-49b8-9457-b67e10ed0b65
X-WR-CALDESC:
X-WR-RELCALID:a4ef46ad5b5ccc87c546a3291499ecda
X-WR-TIMEZONE:America/New_York
BEGIN:VTIMEZONE
TZID:America/New_York
BEGIN:STANDARD
TZNAME:EST
DTSTART:20231105T020000
TZOFFSETFROM:-0400
TZOFFSETTO:-0500
RDATE:20241103T020000
RDATE:20251102T020000
END:STANDARD
BEGIN:DAYLIGHT
TZNAME:EDT
DTSTART:20240310T020000
TZOFFSETFROM:-0500
TZOFFSETTO:-0400
RDATE:20250309T020000
END:DAYLIGHT
END:VTIMEZONE
BEGIN:VEVENT
UID:753bd371-f58c-45d0-adc2-d68af8cf7fd8
DTSTAMP:20260422T213027Z
DESCRIPTION:
DTSTART;TZID=America/New_York:20240611T120000
DTEND;TZID=America/New_York:20240611T123000
LOCATION:Via Zoom or Facebook -  Please check the Newsletter
SUMMARY:Prayers for Peace and Healing in the Holy Land
END:VEVENT
END:VCALENDAR
