BEGIN:VCALENDAR
VERSION:2.0
PRODID:-//stdunstansbethesda.org//NONSGML kigkonsult.se iCalcreator 2.30.10
 //
CALSCALE:GREGORIAN
METHOD:PUBLISH
UID:589f92ea-a852-41e8-80fa-ce15ddc0dece
X-WR-CALDESC:May Book Discussion:\n\n﻿North Woods\, by Daniel Mason
X-WR-RELCALID:c6425a9c102f740d3be4916a3bd35d40
X-WR-TIMEZONE:America/New_York
BEGIN:VTIMEZONE
TZID:America/New_York
BEGIN:STANDARD
TZNAME:EST
DTSTART:20231105T020000
TZOFFSETFROM:-0400
TZOFFSETTO:-0500
RDATE:20241103T020000
RDATE:20251102T020000
END:STANDARD
BEGIN:DAYLIGHT
TZNAME:EDT
DTSTART:20240310T020000
TZOFFSETFROM:-0500
TZOFFSETTO:-0400
RDATE:20250309T020000
END:DAYLIGHT
END:VTIMEZONE
BEGIN:VEVENT
UID:b2d8608e-6e5c-4afd-9390-47f4baf6a078
DTSTAMP:20260422T231920Z
DESCRIPTION:May Book Discussion:\n\n﻿North Woods\, by Daniel Mason
DTSTART;TZID=America/New_York:20240530T140000
DTEND;TZID=America/New_York:20240530T150000
LOCATION:On Zoom
SUMMARY:Monthly Book Group (Zoom)
END:VEVENT
END:VCALENDAR
