BEGIN:VCALENDAR
VERSION:2.0
PRODID:-//stdunstansbethesda.org//NONSGML kigkonsult.se iCalcreator 2.30.10
 //
CALSCALE:GREGORIAN
METHOD:PUBLISH
UID:e423ec8d-713a-42d1-8b78-0a5003cfc2e3
X-WR-CALDESC:
X-WR-RELCALID:647f5e46c6a6e6ef17db58a8aee58733
X-WR-TIMEZONE:America/New_York
BEGIN:VTIMEZONE
TZID:America/New_York
BEGIN:STANDARD
TZNAME:EST
DTSTART:20231105T020000
TZOFFSETFROM:-0400
TZOFFSETTO:-0500
RDATE:20241103T020000
END:STANDARD
BEGIN:DAYLIGHT
TZNAME:EDT
DTSTART:20240310T020000
TZOFFSETFROM:-0500
TZOFFSETTO:-0400
RDATE:20250309T020000
END:DAYLIGHT
END:VTIMEZONE
BEGIN:VEVENT
UID:0b465adf-f949-4e54-b9e9-4bc992abebb7
DTSTAMP:20260423T012035Z
DESCRIPTION:
DTSTART;TZID=America/New_York:20240423T120000
DTEND;TZID=America/New_York:20240423T123000
LOCATION:Via Zoom or Facebook -  Please check the Newsletter
SUMMARY:Prayers for Peace and Healing in the Holy Land
END:VEVENT
END:VCALENDAR
