BEGIN:VCALENDAR
VERSION:2.0
PRODID:-//stdunstansbethesda.org//NONSGML kigkonsult.se iCalcreator 2.30.10
 //
CALSCALE:GREGORIAN
METHOD:PUBLISH
UID:03cefde2-1824-4fe4-8022-e8b44b66e404
X-WR-CALDESC:North Woods\, by Daniel Mason
X-WR-RELCALID:816e542a491bef4a972f05ba99faae49
X-WR-TIMEZONE:America/New_York
BEGIN:VTIMEZONE
TZID:America/New_York
BEGIN:STANDARD
TZNAME:EST
DTSTART:20231105T020000
TZOFFSETFROM:-0400
TZOFFSETTO:-0500
RDATE:20241103T020000
END:STANDARD
BEGIN:DAYLIGHT
TZNAME:EDT
DTSTART:20240310T020000
TZOFFSETFROM:-0500
TZOFFSETTO:-0400
RDATE:20250309T020000
END:DAYLIGHT
END:VTIMEZONE
BEGIN:VEVENT
UID:b6319fa7-b04b-4ccc-9e4f-bc10c62f47a0
DTSTAMP:20260423T011717Z
DESCRIPTION:North Woods\, by Daniel Mason
DTSTART;TZID=America/New_York:20240411T140000
DTEND;TZID=America/New_York:20240411T150000
LOCATION:On Zoom
SUMMARY:Cancelled - Monthly Book Group (Zoom) - North Woods\, by Daniel Mas
 on
END:VEVENT
END:VCALENDAR
