BEGIN:VCALENDAR
VERSION:2.0
PRODID:-//stdunstansbethesda.org//NONSGML kigkonsult.se iCalcreator 2.30.10
 //
CALSCALE:GREGORIAN
METHOD:PUBLISH
UID:3abe8b0d-d02d-4e0f-b8f5-d7dcbeb32b0c
X-WR-CALDESC:Empire Falls\, by Richard Russo
X-WR-RELCALID:87780510d8eed1cc9ace266af726b9d2
X-WR-TIMEZONE:America/New_York
BEGIN:VTIMEZONE
TZID:America/New_York
BEGIN:STANDARD
TZNAME:EST
DTSTART:20231105T020000
TZOFFSETFROM:-0400
TZOFFSETTO:-0500
RDATE:20241103T020000
END:STANDARD
BEGIN:DAYLIGHT
TZNAME:EDT
DTSTART:20240310T020000
TZOFFSETFROM:-0500
TZOFFSETTO:-0400
RDATE:20250309T020000
END:DAYLIGHT
END:VTIMEZONE
BEGIN:VEVENT
UID:b1e71636-e043-4963-96d1-3bef7c41a74e
DTSTAMP:20260423T031210Z
DESCRIPTION:Empire Falls\, by Richard Russo
DTSTART;TZID=America/New_York:20240314T140000
DTEND;TZID=America/New_York:20240314T150000
LOCATION:On Zoom
SUMMARY:Monthly Book Group (Zoom) Empire Falls\, by Richard Russo
END:VEVENT
END:VCALENDAR
