BEGIN:VCALENDAR
VERSION:2.0
PRODID:-//stdunstansbethesda.org//NONSGML kigkonsult.se iCalcreator 2.30.10
 //
CALSCALE:GREGORIAN
METHOD:PUBLISH
UID:3b91d89e-f32a-4f45-9ecf-633b0a77ef8d
X-WR-CALDESC:No preparation or previous Bible Study experience is necessary
 \; we all learn from each other.\n\nCome and see!
X-WR-RELCALID:2d2a4a0e882e29fa7d1245e19f32a978
X-WR-TIMEZONE:America/New_York
BEGIN:VTIMEZONE
TZID:America/New_York
BEGIN:STANDARD
TZNAME:EST
DTSTART:20231105T020000
TZOFFSETFROM:-0400
TZOFFSETTO:-0500
RDATE:20241103T020000
END:STANDARD
BEGIN:DAYLIGHT
TZNAME:EDT
DTSTART:20230312T020000
TZOFFSETFROM:-0500
TZOFFSETTO:-0400
RDATE:20240310T020000
RDATE:20250309T020000
END:DAYLIGHT
END:VTIMEZONE
BEGIN:VEVENT
UID:0ef5bc03-57b0-4946-a62e-a1b3892997d3
DTSTAMP:20260423T030803Z
DESCRIPTION:No preparation or previous Bible Study experience is necessary\
 ; we all learn from each other.\n\nCome and see!
DTSTART;TZID=America/New_York:20240306T103000
DTEND;TZID=America/New_York:20240306T114500
LOCATION:On Zoom
SUMMARY:Bible Study (Zoom)
END:VEVENT
END:VCALENDAR
