BEGIN:VCALENDAR
VERSION:2.0
PRODID:-//stdunstansbethesda.org//NONSGML kigkonsult.se iCalcreator 2.30.10
 //
CALSCALE:GREGORIAN
METHOD:PUBLISH
UID:b2d92357-2e9f-457e-ba90-a9bd46098eb2
X-WR-CALDESC:
X-WR-RELCALID:fb4cb2a4d2bf3491be406dde45655dd9
X-WR-TIMEZONE:America/New_York
BEGIN:VTIMEZONE
TZID:America/New_York
BEGIN:STANDARD
TZNAME:EST
DTSTART:20231105T020000
TZOFFSETFROM:-0400
TZOFFSETTO:-0500
RDATE:20241103T020000
END:STANDARD
BEGIN:DAYLIGHT
TZNAME:EDT
DTSTART:20230312T020000
TZOFFSETFROM:-0500
TZOFFSETTO:-0400
RDATE:20240310T020000
RDATE:20250309T020000
END:DAYLIGHT
END:VTIMEZONE
BEGIN:VEVENT
UID:41672d3f-fead-47e8-846b-6df4ea1cc23d
DTSTAMP:20260423T031240Z
DESCRIPTION:
DTSTART;TZID=America/New_York:20240305T120000
DTEND;TZID=America/New_York:20240305T123000
LOCATION:Via Zoom or Facebook -  Please check the Newsletter
SUMMARY:Prayers for Peace and Healing in the Holy Land
END:VEVENT
END:VCALENDAR
