BEGIN:VCALENDAR
VERSION:2.0
PRODID:-//stdunstansbethesda.org//NONSGML kigkonsult.se iCalcreator 2.30.10
 //
CALSCALE:GREGORIAN
METHOD:PUBLISH
UID:0199c5b7-5b6e-4e86-b7e7-37bf9eb9571e
X-WR-CALDESC:
X-WR-RELCALID:fb0a354034fceb26032b843ddadf9e62
X-WR-TIMEZONE:America/New_York
BEGIN:VTIMEZONE
TZID:America/New_York
BEGIN:STANDARD
TZNAME:EST
DTSTART:20231105T020000
TZOFFSETFROM:-0400
TZOFFSETTO:-0500
RDATE:20241103T020000
END:STANDARD
BEGIN:DAYLIGHT
TZNAME:EDT
DTSTART:20230312T020000
TZOFFSETFROM:-0500
TZOFFSETTO:-0400
RDATE:20240310T020000
RDATE:20250309T020000
END:DAYLIGHT
END:VTIMEZONE
BEGIN:VEVENT
UID:ae39963a-a846-4cbe-bbcb-e9c6ff0b4c60
DTSTAMP:20260423T050653Z
DESCRIPTION:
DTSTART;TZID=America/New_York:20240227T120000
DTEND;TZID=America/New_York:20240227T123000
LOCATION:Via Zoom or Facebook -  Please check the Newsletter
SUMMARY:Prayers for Peace and Healing in the Holy Land
END:VEVENT
END:VCALENDAR
