BEGIN:VCALENDAR
VERSION:2.0
PRODID:-//stdunstansbethesda.org//NONSGML kigkonsult.se iCalcreator 2.30.10
 //
CALSCALE:GREGORIAN
METHOD:PUBLISH
UID:5917c65f-f7f2-49a2-8bcf-feac8b2d1ed7
X-WR-CALDESC:February Book Discussion:\nTom Lake\, by Ann Patchett\n\nAll a
 re welcome\, whether you've read the book or not.\n﻿Invite a friend!\n\nTo
  learn more and to get the zoom link\, please contact Donna Alvarez.
X-WR-RELCALID:54bb651cb6d97c76f3b72dc970621de9
X-WR-TIMEZONE:America/New_York
BEGIN:VTIMEZONE
TZID:America/New_York
BEGIN:STANDARD
TZNAME:EST
DTSTART:20231105T020000
TZOFFSETFROM:-0400
TZOFFSETTO:-0500
RDATE:20241103T020000
END:STANDARD
BEGIN:DAYLIGHT
TZNAME:EDT
DTSTART:20230312T020000
TZOFFSETFROM:-0500
TZOFFSETTO:-0400
RDATE:20240310T020000
RDATE:20250309T020000
END:DAYLIGHT
END:VTIMEZONE
BEGIN:VEVENT
UID:7e1294bb-4406-44ff-ba79-703b3535246b
DTSTAMP:20260420T204433Z
DESCRIPTION:February Book Discussion:\nTom Lake\, by Ann Patchett\n\nAll ar
 e welcome\, whether you've read the book or not.\n﻿Invite a friend!\n\nTo 
 learn more and to get the zoom link\, please contact Donna Alvarez.
DTSTART;TZID=America/New_York:20240208T140000
DTEND;TZID=America/New_York:20240208T150000
LOCATION:On Zoom
SUMMARY:Monthly Book Group (Zoom)
END:VEVENT
END:VCALENDAR
