BEGIN:VCALENDAR
VERSION:2.0
PRODID:-//stdunstansbethesda.org//NONSGML kigkonsult.se iCalcreator 2.30.10
 //
CALSCALE:GREGORIAN
METHOD:PUBLISH
UID:c6799ccb-0572-4c94-8a35-76390d6850b8
X-WR-CALDESC:
X-WR-RELCALID:f496b6f364168e09d9eab5763823672a
X-WR-TIMEZONE:America/New_York
BEGIN:VTIMEZONE
TZID:America/New_York
BEGIN:STANDARD
TZNAME:EST
DTSTART:20231105T020000
TZOFFSETFROM:-0400
TZOFFSETTO:-0500
RDATE:20241103T020000
END:STANDARD
BEGIN:DAYLIGHT
TZNAME:EDT
DTSTART:20230312T020000
TZOFFSETFROM:-0500
TZOFFSETTO:-0400
RDATE:20240310T020000
RDATE:20250309T020000
END:DAYLIGHT
END:VTIMEZONE
BEGIN:VEVENT
UID:0e420bcd-79d1-4e40-9550-530682720c7f
DTSTAMP:20260423T070725Z
DESCRIPTION:
DTSTART;TZID=America/New_York:20240130T120000
DTEND;TZID=America/New_York:20240130T123000
LOCATION:Via Zoom or Facebook -  Please check the Newsletter
SUMMARY:Prayers for Peace and Healing in the Holy Land
END:VEVENT
END:VCALENDAR
