BEGIN:VCALENDAR
VERSION:2.0
PRODID:-//stdunstansbethesda.org//NONSGML kigkonsult.se iCalcreator 2.30.10
 //
CALSCALE:GREGORIAN
METHOD:PUBLISH
UID:151d31eb-1b76-4284-b30a-6079f76865ee
X-WR-CALDESC:
X-WR-RELCALID:32733e33850ff0e3e8872649ee8198e6
X-WR-TIMEZONE:America/New_York
BEGIN:VTIMEZONE
TZID:America/New_York
BEGIN:STANDARD
TZNAME:EST
DTSTART:20231105T020000
TZOFFSETFROM:-0400
TZOFFSETTO:-0500
RDATE:20241103T020000
END:STANDARD
BEGIN:DAYLIGHT
TZNAME:EDT
DTSTART:20230312T020000
TZOFFSETFROM:-0500
TZOFFSETTO:-0400
RDATE:20240310T020000
RDATE:20250309T020000
END:DAYLIGHT
END:VTIMEZONE
BEGIN:VEVENT
UID:6911a6a4-a7f4-442f-8f0c-a027ef900f04
DTSTAMP:20260423T070538Z
DESCRIPTION:
DTSTART;TZID=America/New_York:20240116T120000
DTEND;TZID=America/New_York:20240116T121500
LOCATION:Via Zoom or Facebook -  Please check the Newsletter
SUMMARY:Prayers for Peace in the Holy Land
END:VEVENT
END:VCALENDAR
