BEGIN:VCALENDAR
VERSION:2.0
PRODID:-//stdunstansbethesda.org//NONSGML kigkonsult.se iCalcreator 2.30.10
 //
CALSCALE:GREGORIAN
METHOD:PUBLISH
UID:36f82bd7-7ad7-45c7-a951-be41217599e9
X-WR-CALDESC:This month's discussion:\nKlara and the Sun\,\nby Kazuo Ishigu
 ro\n
X-WR-RELCALID:a6a7220863010f714b70e198635bdfe2
X-WR-TIMEZONE:America/New_York
BEGIN:VTIMEZONE
TZID:America/New_York
BEGIN:STANDARD
TZNAME:EST
DTSTART:20231105T020000
TZOFFSETFROM:-0400
TZOFFSETTO:-0500
RDATE:20241103T020000
END:STANDARD
BEGIN:DAYLIGHT
TZNAME:EDT
DTSTART:20230312T020000
TZOFFSETFROM:-0500
TZOFFSETTO:-0400
RDATE:20240310T020000
RDATE:20250309T020000
END:DAYLIGHT
END:VTIMEZONE
BEGIN:VEVENT
UID:8dd66205-d323-45bd-a82b-89b4e7de4672
DTSTAMP:20260423T070344Z
DESCRIPTION:This month's discussion:\nKlara and the Sun\,\nby Kazuo Ishigur
 o\n
DTSTART;TZID=America/New_York:20240111T140000
DTEND;TZID=America/New_York:20240111T150000
LOCATION:For Zoom info\, please contact Donna Alvarez
SUMMARY:Monthly Book Group (Zoom)
END:VEVENT
END:VCALENDAR
