BEGIN:VCALENDAR
VERSION:2.0
PRODID:-//stdunstansbethesda.org//NONSGML kigkonsult.se iCalcreator 2.30.10
 //
CALSCALE:GREGORIAN
METHOD:PUBLISH
UID:6f5e6aab-5c26-4a6f-a8ae-9b098d006808
X-WR-CALDESC:
X-WR-RELCALID:188c5b0b3e715898072905daf90195e2
X-WR-TIMEZONE:America/New_York
BEGIN:VTIMEZONE
TZID:America/New_York
BEGIN:STANDARD
TZNAME:EST
DTSTART:20231105T020000
TZOFFSETFROM:-0400
TZOFFSETTO:-0500
RDATE:20241103T020000
END:STANDARD
BEGIN:DAYLIGHT
TZNAME:EDT
DTSTART:20230312T020000
TZOFFSETFROM:-0500
TZOFFSETTO:-0400
RDATE:20240310T020000
RDATE:20250309T020000
END:DAYLIGHT
END:VTIMEZONE
BEGIN:VEVENT
UID:66ba9610-be5d-49d8-bfd0-0e63ff88a224
DTSTAMP:20260423T070511Z
DESCRIPTION:
DTSTART;TZID=America/New_York:20240109T120000
DTEND;TZID=America/New_York:20240109T121500
LOCATION:Via Zoom or Facebook -  Please check the Newsletter
SUMMARY:Prayers for Peace in the Holy Land
END:VEVENT
END:VCALENDAR
