BEGIN:VCALENDAR
VERSION:2.0
PRODID:-//stdunstansbethesda.org//NONSGML kigkonsult.se iCalcreator 2.30.10
 //
CALSCALE:GREGORIAN
METHOD:PUBLISH
UID:389a9bf0-cacd-4d8b-ac2b-bee6fbd447ab
X-WR-CALDESC:
X-WR-RELCALID:d59ff93a1454a2923de299d9d8861527
X-WR-TIMEZONE:America/New_York
BEGIN:VTIMEZONE
TZID:America/New_York
BEGIN:STANDARD
TZNAME:EST
DTSTART:20231105T020000
TZOFFSETFROM:-0400
TZOFFSETTO:-0500
RDATE:20241103T020000
END:STANDARD
BEGIN:DAYLIGHT
TZNAME:EDT
DTSTART:20230312T020000
TZOFFSETFROM:-0500
TZOFFSETTO:-0400
RDATE:20240310T020000
RDATE:20250309T020000
END:DAYLIGHT
END:VTIMEZONE
BEGIN:VEVENT
UID:6eecc50d-ccad-4c98-943d-d97af4f091d1
DTSTAMP:20260423T105545Z
DESCRIPTION:
DTSTART;TZID=America/New_York:20231219T120000
DTEND;TZID=America/New_York:20231219T121500
LOCATION:Via Zoom or Facebook -  Please check the Newsletter
SUMMARY:Prayers for Peace in the Holy Land
END:VEVENT
END:VCALENDAR
