BEGIN:VCALENDAR
VERSION:2.0
PRODID:-//stdunstansbethesda.org//NONSGML kigkonsult.se iCalcreator 2.30.10
 //
CALSCALE:GREGORIAN
METHOD:PUBLISH
UID:c88cc24b-6ef1-49e6-9de0-a5eca85cecbf
X-WR-CALDESC:
X-WR-RELCALID:285a8eae0f84ddda289b4de80e368c50
X-WR-TIMEZONE:America/New_York
BEGIN:VTIMEZONE
TZID:America/New_York
BEGIN:STANDARD
TZNAME:EST
DTSTART:20231105T020000
TZOFFSETFROM:-0400
TZOFFSETTO:-0500
RDATE:20241103T020000
END:STANDARD
BEGIN:DAYLIGHT
TZNAME:EDT
DTSTART:20230312T020000
TZOFFSETFROM:-0500
TZOFFSETTO:-0400
RDATE:20240310T020000
RDATE:20250309T020000
END:DAYLIGHT
END:VTIMEZONE
BEGIN:VEVENT
UID:2be1bbe5-39f7-4440-ba9c-7c2cb89d3753
DTSTAMP:20260425T124922Z
DESCRIPTION:
DTSTART;TZID=America/New_York:20231121T120000
DTEND;TZID=America/New_York:20231121T121500
LOCATION:Via Zoom or Facebook -  Please check the Newsletter
SUMMARY:Prayers for Peace in the Holy Land
END:VEVENT
END:VCALENDAR
