BEGIN:VCALENDAR
VERSION:2.0
PRODID:-//stdunstansbethesda.org//NONSGML kigkonsult.se iCalcreator 2.30.10
 //
CALSCALE:GREGORIAN
METHOD:PUBLISH
UID:753107e7-0d46-4dcc-9cb4-a64f8bf93ff6
X-WR-CALDESC:
X-WR-RELCALID:c55fdf5403b9310ce0390da7d13f954e
X-WR-TIMEZONE:America/New_York
BEGIN:VTIMEZONE
TZID:America/New_York
BEGIN:STANDARD
TZNAME:EST
DTSTART:20231105T020000
TZOFFSETFROM:-0400
TZOFFSETTO:-0500
RDATE:20241103T020000
END:STANDARD
BEGIN:DAYLIGHT
TZNAME:EDT
DTSTART:20230312T020000
TZOFFSETFROM:-0500
TZOFFSETTO:-0400
RDATE:20240310T020000
RDATE:20250309T020000
END:DAYLIGHT
END:VTIMEZONE
BEGIN:VEVENT
UID:017a70f1-62a9-40c8-aae9-61a4a80f834e
DTSTAMP:20260425T105821Z
DESCRIPTION:
DTSTART;TZID=America/New_York:20231109T140000
DTEND;TZID=America/New_York:20231109T150000
LOCATION:On Zoom
SUMMARY:Monthly Book Group (Zoom)
END:VEVENT
END:VCALENDAR
