BEGIN:VCALENDAR
VERSION:2.0
PRODID:-//stdunstansbethesda.org//NONSGML kigkonsult.se iCalcreator 2.30.10
 //
CALSCALE:GREGORIAN
METHOD:PUBLISH
UID:ea7f9afa-e858-4f33-850a-cc9174f7d675
X-WR-CALDESC:
X-WR-RELCALID:88d53ac90ff5836144311783d8d17e8a
X-WR-TIMEZONE:America/New_York
BEGIN:VTIMEZONE
TZID:America/New_York
BEGIN:STANDARD
TZNAME:EST
DTSTART:20221106T020000
TZOFFSETFROM:-0400
TZOFFSETTO:-0500
RDATE:20231105T020000
RDATE:20241103T020000
END:STANDARD
BEGIN:DAYLIGHT
TZNAME:EDT
DTSTART:20230312T020000
TZOFFSETFROM:-0500
TZOFFSETTO:-0400
RDATE:20240310T020000
RDATE:20250309T020000
END:DAYLIGHT
END:VTIMEZONE
BEGIN:VEVENT
UID:7ce50eec-5f55-47ce-a99e-7882d65a6702
DTSTAMP:20260425T110149Z
DESCRIPTION:
DTSTART;TZID=America/New_York:20231105T093000
DTEND;TZID=America/New_York:20231105T101500
LOCATION:
SUMMARY:St. Dunstan's Chancel Choir
END:VEVENT
END:VCALENDAR
