BEGIN:VCALENDAR
VERSION:2.0
PRODID:-//stdunstansbethesda.org//NONSGML kigkonsult.se iCalcreator 2.30.10
 //
CALSCALE:GREGORIAN
METHOD:PUBLISH
UID:7e5dacc9-57a8-447b-90f2-1c1eb62587f4
X-WR-CALDESC:
X-WR-RELCALID:9449ca51d8122620b072c15e880fd09b
X-WR-TIMEZONE:America/New_York
BEGIN:VTIMEZONE
TZID:America/New_York
BEGIN:STANDARD
TZNAME:EST
DTSTART:20221106T020000
TZOFFSETFROM:-0400
TZOFFSETTO:-0500
RDATE:20231105T020000
RDATE:20241103T020000
END:STANDARD
BEGIN:DAYLIGHT
TZNAME:EDT
DTSTART:20230312T020000
TZOFFSETFROM:-0500
TZOFFSETTO:-0400
RDATE:20240310T020000
RDATE:20250309T020000
END:DAYLIGHT
END:VTIMEZONE
BEGIN:VEVENT
UID:0007c5e7-7d71-4638-9cb9-184d1db35018
DTSTAMP:20260425T124521Z
DESCRIPTION:
DTSTART;TZID=America/New_York:20231031T120000
DTEND;TZID=America/New_York:20231031T121500
LOCATION:Via Zoom or Facebook -  Please check the Newsletter
SUMMARY:Prayers for Peace in the Holy Land
END:VEVENT
END:VCALENDAR
