BEGIN:VCALENDAR
VERSION:2.0
PRODID:-//stdunstansbethesda.org//NONSGML kigkonsult.se iCalcreator 2.30.10
 //
CALSCALE:GREGORIAN
METHOD:PUBLISH
UID:d97585db-27bb-4397-b7ea-c8a7cba232d5
X-WR-CALDESC:
X-WR-RELCALID:9bd628ff729e918ae51df4eb57e1ad60
X-WR-TIMEZONE:America/New_York
BEGIN:VTIMEZONE
TZID:America/New_York
BEGIN:STANDARD
TZNAME:EST
DTSTART:20221106T020000
TZOFFSETFROM:-0400
TZOFFSETTO:-0500
RDATE:20231105T020000
RDATE:20241103T020000
END:STANDARD
BEGIN:DAYLIGHT
TZNAME:EDT
DTSTART:20230312T020000
TZOFFSETFROM:-0500
TZOFFSETTO:-0400
RDATE:20240310T020000
RDATE:20250309T020000
END:DAYLIGHT
END:VTIMEZONE
BEGIN:VEVENT
UID:b87f4521-2a4a-409c-9389-efde05e92dbf
DTSTAMP:20260425T124215Z
DESCRIPTION:
DTSTART;TZID=America/New_York:20231029T093000
DTEND;TZID=America/New_York:20231029T101500
LOCATION:
SUMMARY:St. Dunstan's Chancel Choir
END:VEVENT
END:VCALENDAR
