BEGIN:VCALENDAR
VERSION:2.0
PRODID:-//stdunstansbethesda.org//NONSGML kigkonsult.se iCalcreator 2.30.10
 //
CALSCALE:GREGORIAN
METHOD:PUBLISH
UID:32595a62-1ec7-44d8-8c05-012c50ab6b09
X-WR-CALDESC:Children's Chorus\nRehearsal each Sunday at 11:45 am for aroun
 d 30 min\nAll Children ages 4 -12 are welcome\n
X-WR-RELCALID:62c0450855080fc3be09794e99adbc6e
X-WR-TIMEZONE:America/New_York
BEGIN:VTIMEZONE
TZID:America/New_York
BEGIN:STANDARD
TZNAME:EST
DTSTART:20221106T020000
TZOFFSETFROM:-0400
TZOFFSETTO:-0500
RDATE:20231105T020000
RDATE:20241103T020000
END:STANDARD
BEGIN:DAYLIGHT
TZNAME:EDT
DTSTART:20230312T020000
TZOFFSETFROM:-0500
TZOFFSETTO:-0400
RDATE:20240310T020000
RDATE:20250309T020000
END:DAYLIGHT
END:VTIMEZONE
BEGIN:VEVENT
UID:0cdcb551-3578-41b3-9e7b-b5cfad0f3ab4
DTSTAMP:20260425T124342Z
DESCRIPTION:Children's Chorus\nRehearsal each Sunday at 11:45 am for around
  30 min\nAll Children ages 4 -12 are welcome\n
DTSTART;TZID=America/New_York:20231022T114500
DTEND;TZID=America/New_York:20231022T124500
LOCATION:St Dunstan's Episcopal Church
SUMMARY:St. Dunstan's Children's Choir
END:VEVENT
END:VCALENDAR
