BEGIN:VCALENDAR
VERSION:2.0
PRODID:-//stdunstansbethesda.org//NONSGML kigkonsult.se iCalcreator 2.30.10
 //
CALSCALE:GREGORIAN
METHOD:PUBLISH
UID:61bccb68-b911-4b38-ab4b-79f2193a828e
X-WR-CALDESC:Children's Chorus\nRehearsal each Sunday at 11:45 am for aroun
 d 30 min\nAll Children ages 4 -12 are welcome\n
X-WR-RELCALID:3b7a4edde461591af2cb2b30820dc837
X-WR-TIMEZONE:America/New_York
BEGIN:VTIMEZONE
TZID:America/New_York
BEGIN:STANDARD
TZNAME:EST
DTSTART:20221106T020000
TZOFFSETFROM:-0400
TZOFFSETTO:-0500
RDATE:20231105T020000
RDATE:20241103T020000
END:STANDARD
BEGIN:DAYLIGHT
TZNAME:EDT
DTSTART:20230312T020000
TZOFFSETFROM:-0500
TZOFFSETTO:-0400
RDATE:20240310T020000
END:DAYLIGHT
END:VTIMEZONE
BEGIN:VEVENT
UID:1ea18b04-d02b-4ef9-a549-c9a4a05e0fe9
DTSTAMP:20260425T163650Z
DESCRIPTION:Children's Chorus\nRehearsal each Sunday at 11:45 am for around
  30 min\nAll Children ages 4 -12 are welcome\n
DTSTART;TZID=America/New_York:20230827T114500
DTEND;TZID=America/New_York:20230827T124500
LOCATION:St Dunstan's Episcopal Church
SUMMARY:St. Dunstan's Children's Choir
END:VEVENT
END:VCALENDAR
