BEGIN:VCALENDAR
VERSION:2.0
PRODID:-//stdunstansbethesda.org//NONSGML kigkonsult.se iCalcreator 2.30.10
 //
CALSCALE:GREGORIAN
METHOD:PUBLISH
UID:aae82f95-7697-4e8f-94ec-081715c17e54
X-WR-CALDESC:Children's Chorus\nRehearsal each Sunday at 11:45 am for aroun
 d 30 min\nAll Children ages 4 -12 are welcome\n
X-WR-RELCALID:83b8e6cead13aed5fcb8ed7f13fdaec2
X-WR-TIMEZONE:America/New_York
BEGIN:VTIMEZONE
TZID:America/New_York
BEGIN:STANDARD
TZNAME:EST
DTSTART:20221106T020000
TZOFFSETFROM:-0400
TZOFFSETTO:-0500
RDATE:20231105T020000
RDATE:20241103T020000
END:STANDARD
BEGIN:DAYLIGHT
TZNAME:EDT
DTSTART:20230312T020000
TZOFFSETFROM:-0500
TZOFFSETTO:-0400
RDATE:20240310T020000
END:DAYLIGHT
END:VTIMEZONE
BEGIN:VEVENT
UID:5979e545-9acb-4a06-8feb-7f861d00a2b2
DTSTAMP:20260425T183540Z
DESCRIPTION:Children's Chorus\nRehearsal each Sunday at 11:45 am for around
  30 min\nAll Children ages 4 -12 are welcome\n
DTSTART;TZID=America/New_York:20230723T114500
DTEND;TZID=America/New_York:20230723T124500
LOCATION:St Dunstan's Episcopal Church
SUMMARY:St. Dunstan's Children's Choir
END:VEVENT
END:VCALENDAR
