BEGIN:VCALENDAR
VERSION:2.0
PRODID:-//stdunstansbethesda.org//NONSGML kigkonsult.se iCalcreator 2.30.10
 //
CALSCALE:GREGORIAN
METHOD:PUBLISH
UID:95e372c7-cb91-4e37-b934-466e3d3858ab
X-WR-CALDESC:
X-WR-RELCALID:e5c4db5e2255e7149db97c9cc08f8373
X-WR-TIMEZONE:America/New_York
BEGIN:VTIMEZONE
TZID:America/New_York
BEGIN:STANDARD
TZNAME:EST
DTSTART:20221106T020000
TZOFFSETFROM:-0400
TZOFFSETTO:-0500
RDATE:20231105T020000
RDATE:20241103T020000
END:STANDARD
BEGIN:DAYLIGHT
TZNAME:EDT
DTSTART:20230312T020000
TZOFFSETFROM:-0500
TZOFFSETTO:-0400
RDATE:20240310T020000
END:DAYLIGHT
END:VTIMEZONE
BEGIN:VEVENT
UID:d05e7e56-9dd3-40c7-b9cc-048894859b3b
DTSTAMP:20260425T183712Z
DESCRIPTION:
DTSTART;TZID=America/New_York:20230713T140000
DTEND;TZID=America/New_York:20230713T150000
LOCATION:On Zoom
SUMMARY:Monthly Book Group (Zoom)
END:VEVENT
END:VCALENDAR
