BEGIN:VCALENDAR
VERSION:2.0
PRODID:-//stdunstansbethesda.org//NONSGML kigkonsult.se iCalcreator 2.30.10
 //
CALSCALE:GREGORIAN
METHOD:PUBLISH
UID:d2bd4a26-f393-4a93-bddb-3bdf6a844f89
X-WR-CALDESC:Children's Chorus\nRehearsal each Sunday at 11:45 am for aroun
 d 30 min\nAll Children ages 4 -12 are welcome\n
X-WR-RELCALID:d036c34dc4e96e786d083969e8e7c71f
X-WR-TIMEZONE:America/New_York
BEGIN:VTIMEZONE
TZID:America/New_York
BEGIN:STANDARD
TZNAME:EST
DTSTART:20221106T020000
TZOFFSETFROM:-0400
TZOFFSETTO:-0500
RDATE:20231105T020000
RDATE:20241103T020000
END:STANDARD
BEGIN:DAYLIGHT
TZNAME:EDT
DTSTART:20230312T020000
TZOFFSETFROM:-0500
TZOFFSETTO:-0400
RDATE:20240310T020000
END:DAYLIGHT
END:VTIMEZONE
BEGIN:VEVENT
UID:14f11d63-69c3-4663-b790-7858571d441b
DTSTAMP:20260425T202631Z
DESCRIPTION:Children's Chorus\nRehearsal each Sunday at 11:45 am for around
  30 min\nAll Children ages 4 -12 are welcome\n
DTSTART;TZID=America/New_York:20230625T114500
DTEND;TZID=America/New_York:20230625T124500
LOCATION:St Dunstan's Episcopal Church
SUMMARY:St. Dunstan's Children's Choir
END:VEVENT
END:VCALENDAR
