BEGIN:VCALENDAR
VERSION:2.0
PRODID:-//stdunstansbethesda.org//NONSGML kigkonsult.se iCalcreator 2.30.10
 //
CALSCALE:GREGORIAN
METHOD:PUBLISH
UID:1f8ddb01-97ea-438f-b03e-f5c310ef8ef5
X-WR-CALDESC:Children's Chorus\nRehearsal each Sunday at 11:45 am for aroun
 d 30 min\nAll Children ages 4 -12 are welcome\n
X-WR-RELCALID:91c85e36fa58a6bc6517b10dbef346bf
X-WR-TIMEZONE:America/New_York
BEGIN:VTIMEZONE
TZID:America/New_York
BEGIN:STANDARD
TZNAME:EST
DTSTART:20221106T020000
TZOFFSETFROM:-0400
TZOFFSETTO:-0500
RDATE:20231105T020000
END:STANDARD
BEGIN:DAYLIGHT
TZNAME:EDT
DTSTART:20230312T020000
TZOFFSETFROM:-0500
TZOFFSETTO:-0400
RDATE:20240310T020000
END:DAYLIGHT
END:VTIMEZONE
BEGIN:VEVENT
UID:a643ca86-dfd2-40ad-8725-a5653b39519e
DTSTAMP:20260426T002853Z
DESCRIPTION:Children's Chorus\nRehearsal each Sunday at 11:45 am for around
  30 min\nAll Children ages 4 -12 are welcome\n
DTSTART;TZID=America/New_York:20230423T114500
DTEND;TZID=America/New_York:20230423T124500
LOCATION:St Dunstan's Episcopal Church
SUMMARY:St. Dunstan's Children's Choir
END:VEVENT
END:VCALENDAR
