BEGIN:VCALENDAR
VERSION:2.0
PRODID:-//stdunstansbethesda.org//NONSGML kigkonsult.se iCalcreator 2.30.10
 //
CALSCALE:GREGORIAN
METHOD:PUBLISH
UID:bf2709c3-ee2e-4490-8405-910bcf508067
X-WR-CALDESC:
X-WR-RELCALID:5a388c371fc80ce61852b47563db39ab
X-WR-TIMEZONE:America/New_York
BEGIN:VTIMEZONE
TZID:America/New_York
BEGIN:STANDARD
TZNAME:EST
DTSTART:20241103T020000
TZOFFSETFROM:-0400
TZOFFSETTO:-0500
RDATE:20251102T020000
END:STANDARD
BEGIN:DAYLIGHT
TZNAME:EDT
DTSTART:20250309T020000
TZOFFSETFROM:-0500
TZOFFSETTO:-0400
RDATE:20260308T020000
END:DAYLIGHT
END:VTIMEZONE
BEGIN:VEVENT
UID:05821908-377c-47df-8bd4-38913e6d1a8c
DTSTAMP:20260424T003218Z
DESCRIPTION:
DTSTART;TZID=America/New_York:20250330T120000
DTEND;TZID=America/New_York:20250330T130000
LOCATION:
SUMMARY:Adult Formation
END:VEVENT
END:VCALENDAR
