BEGIN:VCALENDAR
VERSION:2.0
PRODID:-//stdunstansbethesda.org//NONSGML kigkonsult.se iCalcreator 2.30.10
 //
CALSCALE:GREGORIAN
METHOD:PUBLISH
UID:1a85ff61-1ec6-4d67-a805-95dcad459450
X-WR-CALDESC:No preparation or previous Bible Study experience is necessary
 \; we all learn from each other.\n\nCome and see!
X-WR-RELCALID:ed1d8b2350b4d37b9a23787a73f519e4
X-WR-TIMEZONE:America/New_York
BEGIN:VTIMEZONE
TZID:America/New_York
BEGIN:STANDARD
TZNAME:EST
DTSTART:20291104T020000
TZOFFSETFROM:-0400
TZOFFSETTO:-0500
RDATE:20301103T020000
END:STANDARD
BEGIN:DAYLIGHT
TZNAME:EDT
DTSTART:20290311T020000
TZOFFSETFROM:-0500
TZOFFSETTO:-0400
RDATE:20300310T020000
RDATE:20310309T020000
END:DAYLIGHT
END:VTIMEZONE
BEGIN:VEVENT
UID:9ab0ddcc-1642-46cb-8246-b06b4dca60c9
DTSTAMP:20260424T123947Z
DESCRIPTION:No preparation or previous Bible Study experience is necessary\
 ; we all learn from each other.\n\nCome and see!
DTSTART;TZID=America/New_York:20291205T103000
DTEND;TZID=America/New_York:20291205T114500
LOCATION:On Zoom
SUMMARY:Bible Study (Zoom)
END:VEVENT
END:VCALENDAR
