BEGIN:VCALENDAR
VERSION:2.0
PRODID:-//stdunstansbethesda.org//NONSGML kigkonsult.se iCalcreator 2.30.10
 //
CALSCALE:GREGORIAN
METHOD:PUBLISH
UID:a322dcf3-d97f-40ce-9f9a-aef0763e09ab
X-WR-CALDESC:No preparation or previous Bible Study experience is necessary
 \; we all learn from each other.\n\nCome and see!
X-WR-RELCALID:cdf17f46ef8a3a9d41d5164c47d2eea6
X-WR-TIMEZONE:America/New_York
BEGIN:VTIMEZONE
TZID:America/New_York
BEGIN:STANDARD
TZNAME:EST
DTSTART:20291104T020000
TZOFFSETFROM:-0400
TZOFFSETTO:-0500
RDATE:20301103T020000
END:STANDARD
BEGIN:DAYLIGHT
TZNAME:EDT
DTSTART:20290311T020000
TZOFFSETFROM:-0500
TZOFFSETTO:-0400
RDATE:20300310T020000
RDATE:20310309T020000
END:DAYLIGHT
END:VTIMEZONE
BEGIN:VEVENT
UID:84cf91c0-a455-4da0-9948-84eeac8a37dc
DTSTAMP:20260424T105812Z
DESCRIPTION:No preparation or previous Bible Study experience is necessary\
 ; we all learn from each other.\n\nCome and see!
DTSTART;TZID=America/New_York:20291107T103000
DTEND;TZID=America/New_York:20291107T114500
LOCATION:On Zoom
SUMMARY:Bible Study (Zoom)
END:VEVENT
END:VCALENDAR
