BEGIN:VCALENDAR
VERSION:2.0
PRODID:-//stdunstansbethesda.org//NONSGML kigkonsult.se iCalcreator 2.30.10
 //
CALSCALE:GREGORIAN
METHOD:PUBLISH
UID:52569aaf-6811-4a2d-9530-285c6edc7fb0
X-WR-CALDESC:The St. Dunstan’s Green Team invites you to this special prese
 ntation by Hank Dearden\, Executive Director of ForestPlanet\, a small tre
 e planting nonprofit organization. Hank will talk about reforestation as a
  meaningful act of service and benefit for all people. Please plan to join
  us and invite your friends to this important community event. Thanks to D
 avid Repka for organizing!
X-WR-RELCALID:4a63d919c4a2409e47ce3a6c38e24e90
X-WR-TIMEZONE:America/New_York
BEGIN:VTIMEZONE
TZID:America/New_York
BEGIN:STANDARD
TZNAME:EST
DTSTART:20241103T020000
TZOFFSETFROM:-0400
TZOFFSETTO:-0500
RDATE:20251102T020000
RDATE:20261101T020000
END:STANDARD
BEGIN:DAYLIGHT
TZNAME:EDT
DTSTART:20250309T020000
TZOFFSETFROM:-0500
TZOFFSETTO:-0400
RDATE:20260308T020000
RDATE:20270314T020000
END:DAYLIGHT
END:VTIMEZONE
BEGIN:VEVENT
UID:77f14ee8-589b-4855-890a-c26678d86b15
DTSTAMP:20260421T115138Z
DESCRIPTION:The St. Dunstan’s Green Team invites you to this special presen
 tation by Hank Dearden\, Executive Director of ForestPlanet\, a small tree
  planting nonprofit organization. Hank will talk about reforestation as a 
 meaningful act of service and benefit for all people. Please plan to join 
 us and invite your friends to this important community event. Thanks to Da
 vid Repka for organizing!
DTSTART;TZID=America/New_York:20251019T120000
DTEND;TZID=America/New_York:20251019T130000
LOCATION:St Dunstan's Episcopal Church - 5450 Massachusetts Ave\, Bethesda\
 , MD - Entrance on Fort Sumner Drive
SUMMARY:“Passionate about Trees ~  Because Oxygen is a Tough Habit to Break
 ”
END:VEVENT
END:VCALENDAR
